BEGIN:VCALENDAR
VERSION:2.0
PRODID:-//wp-events-plugin.com//7.2.3.1//EN
TZID:Europe/Berlin
X-WR-TIMEZONE:Europe/Berlin
BEGIN:VEVENT
UID:32@intaqt.de
DTSTART;TZID=Europe/Berlin:20170618T110000
DTEND;TZID=Europe/Berlin:20170618T170000
DTSTAMP:20170130T110530Z
URL:https://www.intaqt.de/en/events/20-minuten-mediation-to-go-anlaesslich
 -des-internationalen-tags-der-mediation-2/
SUMMARY:20 Minuten Mediation to go - Anlässlich des internationalen Tags d
 er Mediation
DESCRIPTION:Nicht ärgern – klären!\n\n 	zerstritten?\n 	unzufrieden?\n 
 	gestresst?\n\nWir klären mit Ihnen innerhalb von 20 Minuten die Möglich
 keiten einer Mediation.\n\nkostenlos\n\nWir sind von 11.00-17.00 Uhr für 
 Sie da\, kommen Sie vorbei.
CATEGORIES:Mediation
LOCATION:intaqt\, Rykestr. 43\, Berlin\, 10405\, Germany
GEO:52.53708;13.42017
X-APPLE-STRUCTURED-LOCATION;VALUE=URI;X-ADDRESS=Rykestr. 43\, Berlin\, 1040
 5\, Germany;X-APPLE-RADIUS=100;X-TITLE=intaqt:geo:52.53708,13.42017
END:VEVENT
BEGIN:VTIMEZONE
TZID:Europe/Berlin
X-LIC-LOCATION:Europe/Berlin
BEGIN:DAYLIGHT
DTSTART:20170326T030000
TZOFFSETFROM:+0100
TZOFFSETTO:+0200
TZNAME:CEST
END:DAYLIGHT
END:VTIMEZONE
END:VCALENDAR