BEGIN:VCALENDAR
VERSION:2.0
PRODID:-//wp-events-plugin.com//7.2.3.1//EN
TZID:Europe/Berlin
X-WR-TIMEZONE:Europe/Berlin
BEGIN:VEVENT
UID:475@intaqt.de
DTSTART;TZID=Europe/Berlin;VALUE=DATE:20260131
DTEND;TZID=Europe/Berlin;VALUE=DATE:20260202
DTSTAMP:20250218T112443Z
URL:https://www.intaqt.de/en/events/coach-und-beraterin-ausbildung-mit-rel
 ationaler-transaktionsanalyse-24/
SUMMARY:Coach und Berater:in Ausbildung mit relationaler Transaktionsanalys
 e
DESCRIPTION:Wie analysiere ich Konfliktpotential und erreiche Klarheit im H
 andeln?\nRollen und ihre Bedeutung
CATEGORIES:Coach / Berater:in DGTA,Jule Endruweit
LOCATION:PIKSL Labor Berlin\, Grünberger Str. 23\, Berlin\, 10243\, German
 y
GEO:52.512779;13.451562
X-APPLE-STRUCTURED-LOCATION;VALUE=URI;X-ADDRESS=Grünberger Str. 23\, Berli
 n\, 10243\, Germany;X-APPLE-RADIUS=100;X-TITLE=PIKSL Labor Berlin:geo:52.5
 12779,13.451562
END:VEVENT
BEGIN:VTIMEZONE
TZID:Europe/Berlin
X-LIC-LOCATION:Europe/Berlin
BEGIN:STANDARD
DTSTART:20251026T020000
TZOFFSETFROM:+0200
TZOFFSETTO:+0100
TZNAME:CET
END:STANDARD
END:VTIMEZONE
END:VCALENDAR