BEGIN:VCALENDAR
VERSION:2.0
PRODID:-//wp-events-plugin.com//7.2.3.1//EN
TZID:Europe/Berlin
X-WR-TIMEZONE:Europe/Berlin
BEGIN:VEVENT
UID:485@intaqt.de
DTSTART;TZID=Europe/Berlin;VALUE=DATE:20250215
DTEND;TZID=Europe/Berlin;VALUE=DATE:20250217
DTSTAMP:20250325T084145Z
URL:https://www.intaqt.de/en/events/coach-und-beraterin-ausbildung-mit-rel
 ationaler-transaktionsanalyse-joker-seminar/
SUMMARY:Coach und Berater:in Ausbildung mit relationaler Transaktionsanalys
 e - Joker-Seminar
DESCRIPTION:Joker-Seminar\nDies ist ein Sondertermin in der Coach und Berat
 er:in Ausbildung mit relationaler Transaktionsanalyse von Thomas Wehrs und
  von Jule Endruweit.\n\nIn die fortlaufenden Spiralcurricula kannst Du jed
 erzeit einsteigen. Die gesamte Ausbildung dauert insgesamt drei Jahre und 
 erfordert die Teilnahme an insgesamt 15 Wochenenden. Da Du bei uns einen j
 ährlichen Seminarbeitrag zahlst\, erwirbst Du damit die Teilnahme an den 
 fünf aufeinanderfolgenden Terminen. Um Dir eintgegenzukommen\, falls du e
 inen dieser Termine\, z.B. aufgrund von Krankheit\, nicht wahrnehmen kanns
 t\, bieten wir einmal im Jahr ein Joker-Seminar an.\n\nJede*r Teilnehmer*i
 n der 3-jährigen TA-Ausbildung bei intaqt\, der*die im vorangegangenen Ka
 lenderjahr einen Termin verpasst hat\, hat hier die Möglichkeit\, diesen 
 nachzuholen. Das Joker-Seminar wird von uns kostenlos angeboten\, um Dich 
 in Deiner Ausbildung zu unterstützen und dir Gelegenheit zu bieten\, verp
 asste Themen nachzuholen.
CATEGORIES:Coach / Berater:in DGTA,Einzelseminar,Jule
 Endruweit,Ko-Kreative Transaktionsanalyse,Selbsterfahrung,Thomas
 Wehrs,Transaktionsanalyse
LOCATION:intaqt\, Rykestr. 43\, Berlin\, 10405\, Germany
GEO:52.53708;13.42017
X-APPLE-STRUCTURED-LOCATION;VALUE=URI;X-ADDRESS=Rykestr. 43\, Berlin\, 1040
 5\, Germany;X-APPLE-RADIUS=100;X-TITLE=intaqt:geo:52.53708,13.42017
END:VEVENT
BEGIN:VTIMEZONE
TZID:Europe/Berlin
X-LIC-LOCATION:Europe/Berlin
BEGIN:STANDARD
DTSTART:20241027T020000
TZOFFSETFROM:+0200
TZOFFSETTO:+0100
TZNAME:CET
END:STANDARD
END:VTIMEZONE
END:VCALENDAR