BEGIN:VCALENDAR
VERSION:2.0
PRODID:-//wp-events-plugin.com//7.2.3.1//EN
TZID:Europe/Berlin
X-WR-TIMEZONE:Europe/Berlin
BEGIN:VEVENT
UID:23@intaqt.de
DTSTART;TZID=Europe/Berlin:20160520T163000
DTEND;TZID=Europe/Berlin:20160520T180000
DTSTAMP:20160513T091929Z
URL:https://www.intaqt.de/en/events/dgta-kongress-tore-und-bruecken-zur-we
 lt/
SUMMARY:DGTA-Kongress „Tore und Brücken zur Welt“
DESCRIPTION:Workshop 39\n\nWie tolerant bin ich? Diversityreife und TA\n\nD
 as Konzept der Diversity-Reifegrade bietet ein Einordnungssystem um den St
 atus Quo der Offenheit für Fremdes festzustellen und Ansätze für eine W
 eiterentwicklung. Es eignet sich für die Arbeit mit Gruppen und Organisat
 ionen ebenso wie für die Arbeit mit einzelnen. Im Workshop können sich d
 ie Teilnehmenden durch Übungen selbst auf die Spur kommen\, wie sie über
  das Anders-Sein Anderer denken und fühlen.\n\nhttp://37.kongress.dgta.de
LOCATION:Universität Hamburg\, Ostflügel Raum O121\, Edmund-Siemers-Allee
  1\, Hamburg\, 20146\, Germany
GEO:53.562655;9.987816199999997
X-APPLE-STRUCTURED-LOCATION;VALUE=URI;X-ADDRESS=Edmund-Siemers-Allee 1\, Ha
 mburg\, 20146\, Germany;X-APPLE-RADIUS=100;X-TITLE=Universität Hamburg\, 
 Ostflügel Raum O121:geo:53.562655,9.987816199999997
END:VEVENT
BEGIN:VTIMEZONE
TZID:Europe/Berlin
X-LIC-LOCATION:Europe/Berlin
BEGIN:DAYLIGHT
DTSTART:20160327T030000
TZOFFSETFROM:+0100
TZOFFSETTO:+0200
TZNAME:CEST
END:DAYLIGHT
END:VTIMEZONE
END:VCALENDAR