BEGIN:VCALENDAR
VERSION:2.0
PRODID:-//wp-events-plugin.com//7.2.3.1//EN
TZID:Europe/Berlin
X-WR-TIMEZONE:Europe/Berlin
BEGIN:VEVENT
UID:38@intaqt.de
DTSTART;TZID=Europe/Berlin;VALUE=DATE:20180316
DTEND;TZID=Europe/Berlin;VALUE=DATE:20180318
DTSTAMP:20180118T144557Z
URL:https://www.intaqt.de/en/events/einfuehrung-in-die-mediation-2/
SUMMARY:Einführung in die Mediation
DESCRIPTION:Einführung in die Mediation\n\nist interessant für alle\, um 
 sich einen ersten Eindruck über Mediation zu verschaffen. Die Einführung
  ist gleichzeitig der Startpunkt für die Ausbildung zum zertifizieren Med
 iator bei intaqt.\n\nDas Seminar vermittelt einen Überblick über die Pha
 sen und Prinzipien sowie über den rechtlichen Rahmen der Mediation. Es l
 ädt zur Reflexion über die Rolle der Mediatorin oder des Mediators ein\,
  über die Bedeutung von menschlicher Vielfalt für Konflikte und eruiert 
 Chancen und Grenzen von Mediation.\n\nKurze Übungen helfen\, das Gehörte
  auf die eigene Arbeit zu beziehen oder auf das eigene Anliegen anzuwenden
 .\n\nVon 10.00 -18.00 Uhr (1. Tag) und 9.00-17.00 Uhr (2. Tag)\n\n&nbsp\;
CATEGORIES:Mediation
LOCATION:intaqt\, Rykestr. 43\, Berlin\, 10405\, Germany
GEO:52.53708;13.42017
X-APPLE-STRUCTURED-LOCATION;VALUE=URI;X-ADDRESS=Rykestr. 43\, Berlin\, 1040
 5\, Germany;X-APPLE-RADIUS=100;X-TITLE=intaqt:geo:52.53708,13.42017
END:VEVENT
BEGIN:VTIMEZONE
TZID:Europe/Berlin
X-LIC-LOCATION:Europe/Berlin
BEGIN:STANDARD
DTSTART:20171029T020000
TZOFFSETFROM:+0200
TZOFFSETTO:+0100
TZNAME:CET
END:STANDARD
END:VTIMEZONE
END:VCALENDAR