BEGIN:VCALENDAR
VERSION:2.0
PRODID:-//wp-events-plugin.com//7.2.3.1//EN
TZID:Europe/Berlin
X-WR-TIMEZONE:Europe/Berlin
BEGIN:VEVENT
UID:299@intaqt.de
DTSTART;TZID=Europe/Berlin;VALUE=DATE:20240217
DTEND;TZID=Europe/Berlin;VALUE=DATE:20240219
DTSTAMP:20221014T132833Z
URL:https://www.intaqt.de/en/events/konfliktbearbeitung-im-beruf-teil-1-5/
SUMMARY:Konfliktbearbeitung im Beruf (Teil 1)
DESCRIPTION:Mediationsausbildung Teil 1 \nKonfliktbearbeitung im Beruf - Ko
 nfliktmanager:in\n\nSie haben die Einführung in die Wertschätzende Diver
 sityMediation besucht\, und Ihren Referenzkonflikt schriftlich reflektiert
 ?\nDann ist der Einstieg in den Teil 1 - Konfliktbearbeitung im Beruf - im
  Februar 24 möglich. Dieser Teil umfasst 5 Module mit insgesamt 80 Stunde
 n.\nNach den 5 Modulen bestätigen wir Ihnen eine Fortbildung zum oder zur
  Konfliktmanager:in.\n\nHier nutzen und vertiefen Sie die Grundlagen aus M
 ediation und DiversitätsManagement und\n- erarbeiten sich damit Ansätze 
 der Haltung und Selbststeuerung\,\n- lernen Sie weitere Analysemodelle ken
 nen und wenden sie an\,\n- entdecken Sie Kommunikationsmethoden (wieder)\,
 \n- beziehen Sie Kernelemente der Mediation auf ihren Arbeitsalltag.\n\n17
 . / 18. Feb. 24\nModul 1: Installation des Konfliktlösungssystems. Kommun
 ikation und die Bedeutung von Rahmen und Haltung für das Konfliktmanageme
 nt\n\n13. / 14. April 24\nModul 2: Themensammlung: Konfliktanalysen und ih
 re praktische Bedeutung\n\n13. / 14. Juli 24\nModul 3: Der Blick hinter di
 e Kulissen. Vorannahmen\, Stereotypen und Muster im Framing und Reframing\
 n\n28. / 29. Sept. 24\nModul 4: Verhandlungen: Vorbereitungen\, Modelle\, 
 Fallen und Tricks\n\n23. / 24. Nov. 24\nModul 5: Abschluss und Veröffentl
 ichung der Konfliktbearbeitung. Von Dreiecksverträgen und dem Umgang mit 
 Machtgefälle\n\n&nbsp\;\n\nVon 10.00 -18.00 Uhr (1. Tag) und 9.00-17.00 U
 hr (2. Tag)\n\n\n\n\nPrivatzahler\nPrivatpaket\nArbeitgeberpaket\n\n\nEinf
 ührung\n290 € brutto\n\n500 € netto\n\n\n1. Jahr\n1.450 € brutto\n1
 .700 € brutto\n2.900 € netto\n\n\n2. Jahr\n1.740 € brutto\n3.350 €
  brutto\n5.700 € netto\n\n\n\n&nbsp\;\n\n&nbsp\;\n\n&nbsp\;\n\n[button l
 ink="https://www.intaqt.de/wp-content/uploads/2020/07/Anmeldung-intaqtGmbH
 _form.pdf" color="black" newwindow="yes"]Download Anmeldeformular[/button]
 \n\nSie haben Teil 1 mit allen Modulen abgeschlossen? Und Sie wollen eine 
 zertifizierte Mediationsausbildung vorweisen können? Dann schließen Sie 
 doch Teil 2 an: Konfliktbearbeitung als Beruf.
CATEGORIES:Ausbildung Konfliktmanager:in,Mediation
LOCATION:intaqt\, Rykestr. 43\, Berlin\, 10405\, Germany
GEO:52.53708;13.42017
X-APPLE-STRUCTURED-LOCATION;VALUE=URI;X-ADDRESS=Rykestr. 43\, Berlin\, 1040
 5\, Germany;X-APPLE-RADIUS=100;X-TITLE=intaqt:geo:52.53708,13.42017
END:VEVENT
BEGIN:VTIMEZONE
TZID:Europe/Berlin
X-LIC-LOCATION:Europe/Berlin
BEGIN:STANDARD
DTSTART:20231029T020000
TZOFFSETFROM:+0200
TZOFFSETTO:+0100
TZNAME:CET
END:STANDARD
END:VTIMEZONE
END:VCALENDAR