BEGIN:VCALENDAR
VERSION:2.0
PRODID:-//wp-events-plugin.com//7.2.3.1//EN
TZID:Europe/Berlin
X-WR-TIMEZONE:Europe/Berlin
BEGIN:VEVENT
UID:9@intaqt.de
DTSTART;TZID=Europe/Berlin;VALUE=DATE:20160909
DTEND;TZID=Europe/Berlin;VALUE=DATE:20160911
DTSTAMP:20160714T145133Z
URL:https://www.intaqt.de/en/events/leiten-fuehren-coachen-weiterbildung-i
 n-transaktionsanalyse-grundausbildung-2016-09-09/
SUMMARY:Leiten-Führen-Coachen - Weiterbildung in Transaktionsanalyse (Grun
 dausbildung)
DESCRIPTION:Innere und äußere Zeichen für Dysfunktionalität\nAbwertung\
 , Symbiose und Passivität
CATEGORIES:Coach / Berater:in DGTA
LOCATION:intaqt\, Rykestr. 43\, Berlin\, 10405\, Germany
GEO:52.53708;13.42017
X-APPLE-STRUCTURED-LOCATION;VALUE=URI;X-ADDRESS=Rykestr. 43\, Berlin\, 1040
 5\, Germany;X-APPLE-RADIUS=100;X-TITLE=intaqt:geo:52.53708,13.42017
END:VEVENT
BEGIN:VTIMEZONE
TZID:Europe/Berlin
X-LIC-LOCATION:Europe/Berlin
BEGIN:DAYLIGHT
DTSTART:20160327T030000
TZOFFSETFROM:+0100
TZOFFSETTO:+0200
TZNAME:CEST
END:DAYLIGHT
END:VTIMEZONE
END:VCALENDAR