BEGIN:VCALENDAR
VERSION:2.0
PRODID:-//wp-events-plugin.com//7.2.3.1//EN
TZID:Europe/Berlin
X-WR-TIMEZONE:Europe/Berlin
BEGIN:VEVENT
UID:221@intaqt.de
DTSTART;TZID=Europe/Berlin;VALUE=DATE:20230311
DTEND;TZID=Europe/Berlin;VALUE=DATE:20230313
DTSTAMP:20230310T155453Z
URL:https://www.intaqt.de/en/events/leiten-fuehren-coachen-weiterbildung-i
 n-transaktionsanalyse-grundausbildung-29/
SUMMARY:Leiten-Führen-Coachen - Weiterbildung in Transaktionsanalyse (Grun
 dausbildung)
DESCRIPTION:Wie analysiere ich Konfliktpotential und erreiche Klarheit im H
 andeln?\nRollen und ihre Bedeutung
CATEGORIES:Coach / Berater:in DGTA,Jule Endruweit
LOCATION:MediationsZentrum\, Dennewitzstr. 34\, Berlin\, 10783\, Germany
GEO:52.498531;13.3691
X-APPLE-STRUCTURED-LOCATION;VALUE=URI;X-ADDRESS=Dennewitzstr. 34\, Berlin\,
  10783\, Germany;X-APPLE-RADIUS=100;X-TITLE=MediationsZentrum:geo:52.49853
 1,13.3691
END:VEVENT
BEGIN:VTIMEZONE
TZID:Europe/Berlin
X-LIC-LOCATION:Europe/Berlin
BEGIN:STANDARD
DTSTART:20221030T020000
TZOFFSETFROM:+0200
TZOFFSETTO:+0100
TZNAME:CET
END:STANDARD
END:VTIMEZONE
END:VCALENDAR