BEGIN:VCALENDAR
VERSION:2.0
PRODID:-//wp-events-plugin.com//7.2.3.1//EN
TZID:Europe/Berlin
X-WR-TIMEZONE:Europe/Berlin
BEGIN:VEVENT
UID:443@intaqt.de
DTSTART;TZID=Europe/Berlin;VALUE=DATE:20250927
DTEND;TZID=Europe/Berlin;VALUE=DATE:20250928
DTSTAMP:20250805T093233Z
URL:https://www.intaqt.de/en/events/mock-examen-cta-vorbereitung-2/
SUMMARY:Mock-Examen (CTA-Vorbereitung)
DESCRIPTION:Am 27.9.25 findet im Rahmen des Transaktionsanalyse Fortgeschri
 ttenentrainings (CTA-Vorbereitung) ein Mock-Examen (Probeexamen) statt. Ic
 h lade 1-2 externe Prüfer:innen ein\, die min. CTA sind und demnach prüf
 en dürfen. Wir simulieren dann eine Prüfung (oder die Teile\, die Du üb
 en möchtest) mit dem Vorstellungsteil\, den Fragen und dem Vorspielen Dei
 ner Aufnahmen und den Fragen dazu.\nTransaktionsanalyse Fortgeschrittenent
 raining (CTA-Vorbereitung) \nDie Module der fortgeschrittenen Ausbildungsg
 ruppe sind jeweils am Stand\, den Lernerfordernissen und Interessen der Te
 ilnehmenden ausgerichtet. Einsteigen können Sie jederzeit\, wenn Sie bere
 its einen Abschluss als Transaktionsanalytische/r Berater/in oder eine Pra
 xiskompetenzbescheinigung haben oder bereits drei Jahre in einer Ausbildun
 gsgruppe waren.\n\nDie Beschäftigung mit theoretischen Modellen aus der T
 ransaktionsanalyse aber auch anderer Richtungen\, Supervision und Intervis
 ion\, Bandsupervision\, Mock-Examina\, Themen aus den Verbänden DGTA/EATA
 /ITAA und der Forschung sind Teil der Auseinandersetzung. Es ist auch mög
 lich\, dass Lehrende anderer Felder zu Gast sind.\n\nDas Ziel ist die Vorb
 ereitung auf einen Abschluss als Transaktionsanalytiker/in (DGTA/EATA).\n\
 nVon 9.00-17.00 Uhr\n\nWeitere Informationen und Termine zum Fortgeschritt
 enentraining finden Sie hier.\n
CATEGORIES:Coach / Berater:in DGTA,Jule Endruweit,Jule Endruweit,TA
 Masterclass,Thomas Wehrs,Thomas Wehrs
LOCATION:intaqt\, Rykestr. 43\, Berlin\, 10405\, Germany
GEO:52.53708;13.42017
X-APPLE-STRUCTURED-LOCATION;VALUE=URI;X-ADDRESS=Rykestr. 43\, Berlin\, 1040
 5\, Germany;X-APPLE-RADIUS=100;X-TITLE=intaqt:geo:52.53708,13.42017
END:VEVENT
BEGIN:VTIMEZONE
TZID:Europe/Berlin
X-LIC-LOCATION:Europe/Berlin
BEGIN:DAYLIGHT
DTSTART:20250330T030000
TZOFFSETFROM:+0100
TZOFFSETTO:+0200
TZNAME:CEST
END:DAYLIGHT
END:VTIMEZONE
END:VCALENDAR