BEGIN:VCALENDAR
VERSION:2.0
PRODID:-//wp-events-plugin.com//7.2.3.1//EN
TZID:Europe/Berlin
X-WR-TIMEZONE:Europe/Berlin
BEGIN:VEVENT
UID:432@intaqt.de
DTSTART;TZID=Europe/Berlin:20240819T160000
DTEND;TZID=Europe/Berlin:20240819T180000
DTSTAMP:20240730T083741Z
URL:https://www.intaqt.de/en/events/ptsta-reflexion-online-supervision-und
 -supervisionstheorie/
SUMMARY:PTSTA-Reflexion online - Supervision und Supervisionstheorie
DESCRIPTION:Du willst Dich für Deine TA-Lehre professionalisieren? In 2 St
 unden kannst Du Dich online mit Fragen der Lehrenden Rolle und TSTA Prüfu
 ng auseinandersetzen und kannst Deine Tätigkeit als Lehrtrainer:in und 
 Lehrsupervisor:in mit anderen reflektieren und weiterentwickeln. Wir gesta
 lten den Prozess zum Oberthema des Moduls Ko-Kreativ mit den Anliegen und 
 dem Wissen der Teilnehmenden und unserer Erfahrungen. Unter Leitung von Ma
 ya Bentele\, TSTA-O/C und Jule Endruweit\, TSTA-O\, bieten wir zwei intens
 ive Stunden an:\n\n 	geleitet von zwei Lehrtrainerinnen mit Prüfungs-\, V
 erbands- und internationaler Erfahrung\n 	für PTSTAs und angehende PTSTAs
 \n 	zur Professionalisierung\n 	zur Vorbereitung auf alle Teile der jeweil
 igen Prüfungen\n 	zur Theoriediskussion\n 	zum Austausch\, zur Erprobung 
 und zur Standortbestimmung\n\nWir freuen uns auch über eine Kontaktaufnah
 me oder Fragen: maya@bentele.ch oder endruweit@intaqt.de\n\n 
CATEGORIES:PTSTA Weiterbildung,Transaktionsanalyse
END:VEVENT
BEGIN:VTIMEZONE
TZID:Europe/Berlin
X-LIC-LOCATION:Europe/Berlin
BEGIN:DAYLIGHT
DTSTART:20240331T030000
TZOFFSETFROM:+0100
TZOFFSETTO:+0200
TZNAME:CEST
END:DAYLIGHT
END:VTIMEZONE
END:VCALENDAR