BEGIN:VCALENDAR
VERSION:2.0
PRODID:-//wp-events-plugin.com//7.2.3.1//EN
TZID:Europe/Berlin
X-WR-TIMEZONE:Europe/Berlin
BEGIN:VEVENT
UID:31@intaqt.de
DTSTART;TZID=Europe/Berlin;VALUE=DATE:20170727
DTEND;TZID=Europe/Berlin;VALUE=DATE:20170730
DTSTAMP:20170130T105940Z
URL:https://www.intaqt.de/en/events/tawc2017-berlinde/
SUMMARY:Weltkongress Transaktionsanalyse
DESCRIPTION:Workshop\n\nStrengthened Identities for Diversity in Business L
 ife - Flexible Boundaries with Diversity and TA\n\nHow can diversity broad
 en the chance of interacting with different customers and help being more 
 successful at the market? And how can persons in charge regulate the own b
 oundaries?\nWhom do we choose to get in contact to? Why? We seem to act ir
 rational in personal contact and in choosing sparring partners. Culture an
 d the own safety feeling (what we are used to) decide whom we trust. Moral
  (how it should be) and political attitude (what do I want to achieve) are
  also factors of decision.\nIn least cases we choose someone who adds the 
 new\, the unexpected to our system (what am I lacking) though it coud broa
 den the acceptance of customers. Unluckily our reflexes and irrational fee
 lings are still the bases for professional decision-making as recruiting e
 mployees especially in small-scale- intrepreneurs. That leads to a monocul
 tural system.\nHow is it possible\, individually as well as in our organiz
 ational role\, to open up our boundaries for the unexpected?\n\nhttps://ta
 wc2017.berlin/de/
LOCATION:Technische Universität Berlin TU\, Straße des 17. Juni 135\,  10
 623 Berlin\, Germany
X-APPLE-STRUCTURED-LOCATION;VALUE=URI;X-ADDRESS=Straße des 17. Juni 135\, 
  10623 Berlin\, Germany;X-APPLE-RADIUS=100;X-TITLE=Technische Universität
  Berlin TU:geo:0,0
END:VEVENT
BEGIN:VTIMEZONE
TZID:Europe/Berlin
X-LIC-LOCATION:Europe/Berlin
BEGIN:DAYLIGHT
DTSTART:20170326T030000
TZOFFSETFROM:+0100
TZOFFSETTO:+0200
TZNAME:CEST
END:DAYLIGHT
END:VTIMEZONE
END:VCALENDAR