BEGIN:VCALENDAR
VERSION:2.0
PRODID:-//wp-events-plugin.com//7.2.3.1//EN
TZID:Europe/Berlin
X-WR-TIMEZONE:Europe/Berlin
BEGIN:VEVENT
UID:168@intaqt.de
DTSTART;TZID=Europe/Berlin;VALUE=DATE:20211029
DTEND;TZID=Europe/Berlin;VALUE=DATE:20211031
DTSTAMP:20210331T104838Z
URL:https://www.intaqt.de/events/202-kurs-grundlagen-der-transaktionsanaly
 se-und-konfliktbearbeitung-2/
SUMMARY:202 Kurs - Grundlagen der Transaktionsanalyse und Konfliktbearbeitu
 ng
DESCRIPTION:Mit diesem Einstiegs- (202) Kurs können Sie auf den 101 Kurs a
 ufbauen und legen gleichzeitig die Grundlage um einen Abschluss als TA-Ber
 ater*in\, TA Coach oder Mediator*in zu erwerben.\nDie Fortbildung vermitte
 lt Selbststeuerungs- und Methodenkompetenz mit ausgewählten transaktionsa
 nalytischen Modellen und Modellen der Konfliktbearbeitung. Konzepte werde
 n vermittelt\, ausprobiert und auf die eigene Arbeit angewandt oder an eig
 enen Anliegen in Super-/Intervision oder Fallarbeit gearbeitet.\nSie ist a
 ls Spiralcurriculum angelegt und auf ein Jahr ausgelegt. Ein Einstieg ist 
 jederzeit möglich\, sofern ein Platz frei ist. Sie haben die Möglichkeit
  ein Jahr (5 aufeinander folgende) zu ermäßigtem Preis zu buchen.\n\nVon
  10.00 -18.00 Uhr (1. Tag) und 9.00-17.00 Uhr (2. Tag)\n\nVoraussetzung: B
 esuch eines 101 Kurses\n\nSeminar Gebühr:\n\n€ 2.000\,00 zzgl. MwSt. (P
 rivatzahler)\n\n€ 3.000\,00 zzgl. MwSt. (Organisationszahler)\n\n&nbsp\;
 \n\n[pdf-embedder url="https://www.intaqt.de/wp-content/uploads/2016/05/An
 meldeformular_form.pdf"]
END:VEVENT
BEGIN:VTIMEZONE
TZID:Europe/Berlin
X-LIC-LOCATION:Europe/Berlin
BEGIN:DAYLIGHT
DTSTART:20210328T030000
TZOFFSETFROM:+0100
TZOFFSETTO:+0200
TZNAME:CEST
END:DAYLIGHT
END:VTIMEZONE
END:VCALENDAR