BEGIN:VCALENDAR
VERSION:2.0
PRODID:-//wp-events-plugin.com//7.2.3.1//EN
TZID:Europe/Berlin
X-WR-TIMEZONE:Europe/Berlin
BEGIN:VEVENT
UID:198@intaqt.de
DTSTART;TZID=Europe/Berlin;VALUE=DATE:20230119
DTEND;TZID=Europe/Berlin;VALUE=DATE:20230121
DTSTAMP:20221213T173116Z
URL:https://www.intaqt.de/events/agile-practitioner-5/
SUMMARY:Agile Practitioner
DESCRIPTION:Agile Practitioner - Von der Methode bis zum Mindset\nDie Weite
 rbildung ist als agiles Projekt aufgebaut. In sechs Modulen lernst Du\n\n 
 	die grundlegenden agilen Methoden kennen und anwenden.\n 	an Deiner Haltu
 ng zu arbeiten und dann das agile Mindset in Deine Arbeits-Praxis zu über
 tragen.\n 	Methoden kennen\, wie Du Dich steuerst\, um in Deiner jeweilige
 n Rolle auf Augenhöhe zu kommunizieren.\n 	von den jeweiligen Kunden her 
 zu denken.\n 	Strukturen zu errichten\, die für den Umgang mit Diversity\
 , Konflikt- und Fehlerkultur wichtig sind.\n\nmehr dazu\n\n96 h\, jeder de
 r 6 Bausteine à 16 Std. \nSelbstorganisierte Peer-Groups in digitaler For
 m zwischen den Modulen.\n\nDie Teilnahme kostet für Arbeitgeber und Selbs
 tständige € 297\,50  pro Monat (insgesamt  3.570 inkl. MWst)\, für S
 elbstzahler € 200 pro Monat (insgesamt € 2.400 inkl. MWSt.).\n\nDie We
 iterbildung ist als Bildungsurlaub in Berlin anerkannt.
CATEGORIES:Agile Practitioner
LOCATION:intaqt\, Rykestr. 43\, Berlin\, 10405\, Deutschland
GEO:52.53708;13.42017
X-APPLE-STRUCTURED-LOCATION;VALUE=URI;X-ADDRESS=Rykestr. 43\, Berlin\, 1040
 5\, Deutschland;X-APPLE-RADIUS=100;X-TITLE=intaqt:geo:52.53708,13.42017
END:VEVENT
BEGIN:VTIMEZONE
TZID:Europe/Berlin
X-LIC-LOCATION:Europe/Berlin
BEGIN:STANDARD
DTSTART:20221030T020000
TZOFFSETFROM:+0200
TZOFFSETTO:+0100
TZNAME:CET
END:STANDARD
END:VTIMEZONE
END:VCALENDAR