BEGIN:VCALENDAR
VERSION:2.0
PRODID:-//wp-events-plugin.com//7.2.3.1//EN
TZID:Europe/Berlin
X-WR-TIMEZONE:Europe/Berlin
BEGIN:VEVENT
UID:252@intaqt.de
DTSTART;TZID=Europe/Berlin:20220504T170000
DTEND;TZID=Europe/Berlin:20220504T180000
DTSTAMP:20220427T181257Z
URL:https://www.intaqt.de/events/agile-practitioner-togo/
SUMMARY:Agile Practitioner ToGo
DESCRIPTION:Datum: 04.05.2022\n17.00 bis 18.00 Uhr\n\nAgilität: von Method
 e bis zum Mindset - per Zoom - ganz entspannt beim Kaffe\, Tee oder einem 
 Getränk Deiner Wahl.\n\n\n\nWie kannst Du Deine Organisation stärken\, A
 gilität leben und transaktionsanalytische Methoden nutzen\, um in Deiner 
 jeweiligen Rolle auf Augenhöhe zu kommunizieren? Wenn Du neugierig bist\,
  wie das geht und Du ein paar Inspirationen für den Alltag möchtest\, me
 lde Dich jetzt hier an!\n\nKostenlos und unverbindlich!
CATEGORIES:Agile Practitioner
END:VEVENT
BEGIN:VTIMEZONE
TZID:Europe/Berlin
X-LIC-LOCATION:Europe/Berlin
BEGIN:DAYLIGHT
DTSTART:20220327T030000
TZOFFSETFROM:+0100
TZOFFSETTO:+0200
TZNAME:CEST
END:DAYLIGHT
END:VTIMEZONE
END:VCALENDAR