BEGIN:VCALENDAR
VERSION:2.0
PRODID:-//wp-events-plugin.com//7.2.3.1//EN
TZID:Europe/Berlin
X-WR-TIMEZONE:Europe/Berlin
BEGIN:VEVENT
UID:416@intaqt.de
DTSTART;TZID=Europe/Berlin;VALUE=DATE:20250208
DTEND;TZID=Europe/Berlin;VALUE=DATE:20250210
DTSTAMP:20250205T113029Z
URL:https://www.intaqt.de/events/coach-und-beraterin-ausbildung-mit-relati
 onaler-transaktionsanalyse-15/
SUMMARY:Coach und Berater:in Ausbildung mit relationaler Transaktionsanalys
 e
DESCRIPTION:Wie analysiere ich Konfliktpotential und erreiche Klarheit im H
 andeln?\nRollen und ihre Bedeutung
CATEGORIES:Coach / Berater:in DGTA,Thomas Wehrs,Transaktionsanalyse
LOCATION:intaqt\, Rykestr. 43\, Berlin\, 10405\, Deutschland
GEO:52.53708;13.42017
X-APPLE-STRUCTURED-LOCATION;VALUE=URI;X-ADDRESS=Rykestr. 43\, Berlin\, 1040
 5\, Deutschland;X-APPLE-RADIUS=100;X-TITLE=intaqt:geo:52.53708,13.42017
END:VEVENT
BEGIN:VTIMEZONE
TZID:Europe/Berlin
X-LIC-LOCATION:Europe/Berlin
BEGIN:STANDARD
DTSTART:20241027T020000
TZOFFSETFROM:+0200
TZOFFSETTO:+0100
TZNAME:CET
END:STANDARD
END:VTIMEZONE
END:VCALENDAR