BEGIN:VCALENDAR
VERSION:2.0
PRODID:-//wp-events-plugin.com//7.2.3.1//EN
TZID:Europe/Berlin
X-WR-TIMEZONE:Europe/Berlin
BEGIN:VEVENT
UID:466@intaqt.de
DTSTART;TZID=Europe/Berlin;VALUE=DATE:20250116
DTEND;TZID=Europe/Berlin;VALUE=DATE:20250118
DTSTAMP:20241120T094622Z
URL:https://www.intaqt.de/events/einfuehrung-in-die-transaktionsanalyse-10
 1-kurs-13/
SUMMARY:Einführung in die Transaktionsanalyse (101 Kurs)
DESCRIPTION:\n\nDiese 2 tägige Einführung bietet Ihnen einen guten Überb
 lick über Transaktionsanalyse und Sie können erste Erfahrungen mit der A
 nwendung sammeln. Es erwartet Sie ein anderer Blick auf die Welt und auf d
 ie Möglichkeiten von Entwicklung\, so dass Sie möglicherweise den Alltag
  als gestaltbarer wahrnehmen als zuvor und mehr Optionen zum Handeln zur V
 erfügung haben als bisher. Wenn Sie noch nicht wissen\, ob die Methode et
 was für Sie ist\, sind Sie eingeladen es auszuprobieren und dabei etwas 
 über sich selbst zu erfahren.\n\nSeminarzeiten von 9.00-17.00 Uhr\n\nSemi
 nar Gebühren:\n\nPrivatzahler: € 295\,00 zzgl. MWSt\n\nFreiberufler und
  Unternehmen: € 600\,00 zzgl. MWSt.\n\nAlle kommenden Einführungskurse:
 \n\n[showhide type="zusammenfassung" more_text="Alle kommenden Einführung
 skurse (mehr...)" less_text="Alle kommenden Einführungskurse (weniger...)
 "] [events_list limit="10" category="16"] [/showhide]
CATEGORIES:TA 101 Einführungskurs
LOCATION:intaqt\, Rykestr. 43\, Berlin\, 10405\, Deutschland
GEO:52.53708;13.42017
X-APPLE-STRUCTURED-LOCATION;VALUE=URI;X-ADDRESS=Rykestr. 43\, Berlin\, 1040
 5\, Deutschland;X-APPLE-RADIUS=100;X-TITLE=intaqt:geo:52.53708,13.42017
END:VEVENT
BEGIN:VTIMEZONE
TZID:Europe/Berlin
X-LIC-LOCATION:Europe/Berlin
BEGIN:STANDARD
DTSTART:20241027T020000
TZOFFSETFROM:+0200
TZOFFSETTO:+0100
TZNAME:CET
END:STANDARD
END:VTIMEZONE
END:VCALENDAR