BEGIN:VCALENDAR
VERSION:2.0
PRODID:-//wp-events-plugin.com//7.2.3.1//EN
TZID:Europe/Berlin
X-WR-TIMEZONE:Europe/Berlin
BEGIN:VEVENT
UID:41@intaqt.de
DTSTART;TZID=Europe/Berlin;VALUE=DATE:20180927
DTEND;TZID=Europe/Berlin;VALUE=DATE:20180929
DTSTAMP:20180118T135749Z
URL:https://www.intaqt.de/events/einfuehrungskurs-in-transaktionsanalyse-1
 01-kurs-7/
SUMMARY:Einführungskurs in Transaktionsanalyse (101 Kurs)
DESCRIPTION:Dieser 2 tägige Einführungskurs bietet Ihnen einen guten Übe
 rblick über Transaktionsanalyse und Sie können erste Erfahrungen mit der
  Anwendung sammeln. Es erwartet Sie ein anderer Blick auf die Welt und auf
  die Möglichkeiten von Entwicklung\, so dass Sie möglicherweise den Allt
 ag als gestaltbarer wahrnehmen als zuvor und mehr Optionen zum Handeln zur
  Verfügung haben als bisher. Wenn Sie noch nicht wissen\, ob die Methode 
 etwas für Sie ist\, sind Sie eingeladen es auszuprobieren und dabei etwas
  über sich selbst zu erfahren.\n\nSeminar Gebühr: € 295\,00 zzgl. MWSt
 \n\nvon 10.00 -18.00 Uhr (1. Tag) und 9.00-17.00 Uhr (2. Tag)\n\n[button l
 ink="http://www.intaqt.de/wp-content/uploads/2016/05/Anmeldeformular_form.
 pdf" color="black" newwindow="yes"]Download Anmeldeformular[/button]\n\nAl
 le kommenden Einführungskurse:\n\n[events_list category="16"]
CATEGORIES:TA 101 Einführungskurs
LOCATION:intaqt\, Rykestr. 43\, Berlin\, 10405\, Deutschland
GEO:52.53708;13.42017
X-APPLE-STRUCTURED-LOCATION;VALUE=URI;X-ADDRESS=Rykestr. 43\, Berlin\, 1040
 5\, Deutschland;X-APPLE-RADIUS=100;X-TITLE=intaqt:geo:52.53708,13.42017
END:VEVENT
BEGIN:VTIMEZONE
TZID:Europe/Berlin
X-LIC-LOCATION:Europe/Berlin
BEGIN:DAYLIGHT
DTSTART:20180325T030000
TZOFFSETFROM:+0100
TZOFFSETTO:+0200
TZNAME:CEST
END:DAYLIGHT
END:VTIMEZONE
END:VCALENDAR