BEGIN:VCALENDAR
VERSION:2.0
PRODID:-//wp-events-plugin.com//7.2.3.1//EN
TZID:Europe/Berlin
X-WR-TIMEZONE:Europe/Berlin
BEGIN:VEVENT
UID:48@intaqt.de
DTSTART;TZID=Europe/Berlin:20180609T100000
DTEND;TZID=Europe/Berlin:20180609T180000
DTSTAMP:20180302T133639Z
URL:https://www.intaqt.de/events/fortbildung-fuer-zertifizierte-mediator_i
 nnen/
SUMMARY:Fortbildung für zertifizierte Mediator_innen
DESCRIPTION:Mediation und Diversity\n\nJeweils 8 Stunden umfassende Fortbil
 dungen zur spezifischen Vertiefung und Aktualisierung einzelner Ausbildung
 sinhalte oder zur Vertiefung von Kenntnissen und Fähigkeiten in besondere
 n Bereichen der Mediation (vgl. §3 ZMediatAusbV).
CATEGORIES:Fortbildung Mediation
LOCATION:intaqt\, Rykestr. 43\, Berlin\, 10405\, Deutschland
GEO:52.53708;13.42017
X-APPLE-STRUCTURED-LOCATION;VALUE=URI;X-ADDRESS=Rykestr. 43\, Berlin\, 1040
 5\, Deutschland;X-APPLE-RADIUS=100;X-TITLE=intaqt:geo:52.53708,13.42017
END:VEVENT
BEGIN:VTIMEZONE
TZID:Europe/Berlin
X-LIC-LOCATION:Europe/Berlin
BEGIN:DAYLIGHT
DTSTART:20180325T030000
TZOFFSETFROM:+0100
TZOFFSETTO:+0200
TZNAME:CEST
END:DAYLIGHT
END:VTIMEZONE
END:VCALENDAR