BEGIN:VCALENDAR
VERSION:2.0
PRODID:-//wp-events-plugin.com//7.2.3.1//EN
TZID:Europe/Berlin
X-WR-TIMEZONE:Europe/Berlin
BEGIN:VEVENT
UID:160@intaqt.de
DTSTART;TZID=Europe/Berlin:20210409T160000
DTEND;TZID=Europe/Berlin:20210430T200000
DTSTAMP:20210118T131714Z
URL:https://www.intaqt.de/events/konfliktbearbeitung-eine-einfuehrung/
SUMMARY:Konfliktbearbeitung. Eine Online-Einführung
DESCRIPTION:Konfliktbearbeitung mit Mediation\, Vielfalt und Wertschätzung
 \n Eine Einführung in die wertschätzende DiversityMediation\n\nDiese 16s
 tündige Einführung ist interessant für alle\, die mit einem konkreten A
 nliegen von der Idee der Mediation profitieren wollen\, und für alle\, di
 e einfach mehr über Mediation wissen wollen. Dabei ist  diese Veranstalt
 ung gleichzeitig der Startpunkt für die Ausbildung zum zertifizieren Medi
 ator bei uns.\nZur Stärkung Ihrer persönlichen Sicherheit\, Kompetenz un
 d Professionalität\nEntwickeln Sie Verständnis für die Dynamik im Konfl
 ikt\, um rechtzeitig das Richtige zu tun.\nReflektieren Sie Ihren Anteil a
 n der Situation\, um aktiv zu steuern statt zu reagieren.\nErarbeiten Sie 
 die Bedeutung von Unterschiedlichkeit und Vielfalt (Diversität) für Ihre
  Konflikte und Lösungen.\nUnd sammeln Sie neue\, praktische Erfahrungen.\
 nDer Inhalt\nMit einem Überblick über die Phasen und Prinzipien erkennen
  Sie\, wie Mediation aufgebaut ist. Ein erster Blick auf den rechtlichen R
 ahmen hilft\, über die Rolle der Mediatorin oder des Mediators nachzudenk
 en. Die praktische Bedeutung von menschlicher Vielfalt als Stolperstein un
 d als Basis für Lösungsideen nimmt einen großen Raum ein. Und wenn wir 
 von Wertschätzung reden\, meinen wir erkennbare Ebenen und Formen einer k
 onkreten wertschätzenden Haltung\, Auf diesen Grundlagen eruieren Sie die
  Chancen und Grenzen von wertschätzender DiversityMediation - und übertr
 agen die eine oder andere Idee auf Ihren Arbeitsalltag oder Ihr persönlic
 hes Anliegen. Dabei helfen Ihnen kurze Übungen.\n\n&nbsp\;\n\nAllgemeine 
 Struktur\n\n\nDas Seminar ist ist auf 4 Freitag-Nachmittage x 2 Einheiten 
 angelegt\, insgesamt jeweils von 16 -20 Uhr.\nFür alle Zufälle\, Ausfäl
 le und Terminkollisionen gibt es den 7. Mai als Ausweichtermin.\n\nDie ein
 zelnen Abschnitte bauen thematisch aufeinander auf und verweisen aufeinand
 er. Sie verbinden Theorie und Praxis mit unterschiedlichen Sinnen. Damit w
 ir keine Quadrataugen bekommen\, folgen wir auch online der Logik\nImpuls 
 – Gruppenarbeit – Einzelarbeit | Selbstreflektion.\n\n\nEin „Laufzet
 tel“ verknüpft Ihr Anliegen mit den Seminarinhalten.\n\n\nUnd wir legen
  nach jeder Einheit\, und wann immer jemand Bedarf anmeldet\, eine Pause e
 in.\n\nDas Programm\n9. April 2021\, 16 - 20 Uhr\, Zoom\nBegrüßung und R
 ahmen\nThema Konflikt - eigener Zugang\, Konfliktanalysemodelle\nThema Wer
 tschätzung - Beschreibung\, Wertschätzung und Konflikt\n\n\n16. April 20
 21\, 16 - 20 Uhr\, Zoom\n\nAnbindung an Tag 1\, Erfahrungen\nThema Konflik
 t: Formate der Konfliktbearbeitung\nThema Mediation: Prinzipien der Mediat
 ion\, Rolle der Mediator:innen\, Recht und Grenzen der Mediation\, Arbeits
 felder\, Phasen\n\n\n23. April 2021\, 16 - 20 Uhr\, Zoom\n\nAnbindung an T
 ag 2\, Erfahrungen\nThema Vielfalt: Diversitydimensionen\, Vielfalt\, Unte
 rschiedlichkeit und Konflikt\, Diversität und Wertschätzung\n\n\n30. Apr
 il 2021\, 16 - 20 Uhr\, Zoom\nAnbindung an Tag 3\, Erfahrungen\nThema Medi
 ation: Trennung von Position und Interesse\, von Standpunkt und Motiv\, Op
 tionsentwicklung\, Bewertung von Optionen\nAbschluss\n\n7. Mai 2021\, 16 -
  20 Uhr\, Zoom\nAusweichtermin für alle Zufälle\, Ausfälle und Terminko
 llisionen\n\n\n&nbsp\;\n\n\n\nKosten\nStandart 290 Euro (inkl. 19 % MwSt.)
 \nCommunity 190 Euro (inkl. 19 % MwSt.)\n[button link="http://www.intaqt.d
 e/wp-content/uploads/2018/06/Anmeldeformular-Mediation.pdf" color="black" 
 newwindow="yes"]Download Anmeldeformular[/button]
CATEGORIES:Einführung in wertschätzende DiversityMediation,Mediation
END:VEVENT
BEGIN:VTIMEZONE
TZID:Europe/Berlin
X-LIC-LOCATION:Europe/Berlin
BEGIN:DAYLIGHT
DTSTART:20210328T030000
TZOFFSETFROM:+0100
TZOFFSETTO:+0200
TZNAME:CEST
END:DAYLIGHT
END:VTIMEZONE
END:VCALENDAR