BEGIN:VCALENDAR
VERSION:2.0
PRODID:-//wp-events-plugin.com//7.2.3.1//EN
TZID:Europe/Berlin
X-WR-TIMEZONE:Europe/Berlin
BEGIN:VEVENT
UID:323@intaqt.de
DTSTART;TZID=Europe/Berlin:20241108T130000
DTEND;TZID=Europe/Berlin:20241108T170000
DTSTAMP:20241016T103530Z
URL:https://www.intaqt.de/events/praesenz-supervision-9/
SUMMARY:Präsenz - Supervision
DESCRIPTION:[et_pb_section fb_built="1" admin_label="section" _builder_vers
 ion="4.16" global_colors_info="{}"][et_pb_row admin_label="row" _builder_v
 ersion="4.16" background_size="initial" background_position="top_left" bac
 kground_repeat="repeat" global_colors_info="{}"][et_pb_column type="4_4" _
 builder_version="4.16" custom_padding="|||" global_colors_info="{}" custom
 _padding__hover="|||"][et_pb_text admin_label="Text" _builder_version="4.1
 9.3" background_size="initial" background_position="top_left" background_r
 epeat="repeat" hover_enabled="0" global_colors_info="{}" sticky_enabled="0
 "]\nInterdisziplinär professionelle Kompetenzen schärfen\nSichtbar Syste
 misch angeleitete Reflexion eigener und kollegialer Praxisfälle bzw. aktu
 eller Fragestellungen.\nSie sind Führungskraft\, in Leitungsverantwortung
 \, sind Personalverantwortliche:r\, Trainer:in\, Berater:in oder Coach und
  wollen Ihre professionelle Praxis reflektieren und weiter entwickeln?\nDa
 nn laden wir Sie vierteljährlich ein zur interdisziplinären Supervision 
 – Sie reflektieren eigene und kollegiale Praxisfälle\, bzw. aktuelle Fr
 agestellungen\, von uns sichtbar systemisch angeleitet.\n\nWarum Supervisi
 on?\n\n 	Weil sich diese Form der Reflexion zur Entwicklung und Weiterentw
 icklung der persönlich-professionellen Kompetenz bewährt hat.\n 	Weil Si
 e am konkreten Fall neue Sichtweisen\, Konzepte und Interventions-Optionen
  entwickeln und diese auf mögliche Wirkungen bzw. Risiken überprüfen. \
 n 	Weil Sie sich selber und einander beim kollegialen und interdisziplinä
 ren Austausch kennen und schätzen lernen. Dies schafft eine sichere Basis
 \; vielleicht sogar für eine weitere Vernetzung.\n\nAuf welcher theoretis
 chen Basis? \nWir arbeiten Sichtbar Systemisch und nutzen Konzepte des Div
 ersity Managements\, der Mediation und der Transaktionsanalyse pragmatisch
 .\nZu jedem Zeitpunkt sind wir bereit\, die konkrete Herkunft bzw. den Kon
 text unserer Methoden und Ansätze zu benennen. \nWie läuft Sie ab?\nZu B
 eginn jeder Sitzung wird der Grundvertrag erneuert: Zur Wahrung der Versch
 wiegenheit\, dann zur Sammlung der Situationen.\nJe nach Fragestellung bel
 euchten Sie und wir die organisationale und/oder die individuelle Perspekt
 ive. So können Sie bei der Suche nach Handlungsoptionen den Einfluss von 
 Organisations-Strukturen und Organisations-Kulturen angemessen berücksich
 tigen.\nDie zur Diagnose/Interventionsplanung verwendeten Konzepte werden 
 erklärt und konkret am Praxis-Beispiel erfahrbar. Damit sind diese auch i
 n zukünftigen Praxis-Situationen verfügbar. So können gleichzeitig alle
  Teilnehmenden von den Eingaben profitieren.\n\nZu welchen Konditionen?\nM
 aximal 6 Personen\, 4 mal im Jahr\, 4 Stunden\, vor Ort\, Fr.\, 13 - 17 Uh
 r ME(S)Z Berlin\nEinmalige Teilnahme: 250 Euro\, Anmeldung bis 7 Tage vor 
 dem Termin\nPaketpreis: Zwei aufeinander folgende Terminen 450 Euro\, Abme
 ldung bis 7 Tage vor dem Termin \n[/et_pb_text][/et_pb_column][/et_pb_row]
 [/et_pb_section]
CATEGORIES:Supervision
LOCATION:intaqt\, Rykestr. 43\, Berlin\, 10405\, Deutschland
GEO:52.53708;13.42017
X-APPLE-STRUCTURED-LOCATION;VALUE=URI;X-ADDRESS=Rykestr. 43\, Berlin\, 1040
 5\, Deutschland;X-APPLE-RADIUS=100;X-TITLE=intaqt:geo:52.53708,13.42017
END:VEVENT
BEGIN:VTIMEZONE
TZID:Europe/Berlin
X-LIC-LOCATION:Europe/Berlin
BEGIN:STANDARD
DTSTART:20241027T020000
TZOFFSETFROM:+0200
TZOFFSETTO:+0100
TZNAME:CET
END:STANDARD
END:VTIMEZONE
END:VCALENDAR