BEGIN:VCALENDAR
VERSION:2.0
PRODID:-//wp-events-plugin.com//7.2.3.1//EN
TZID:Europe/Berlin
X-WR-TIMEZONE:Europe/Berlin
BEGIN:VEVENT
UID:438@intaqt.de
DTSTART;TZID=Europe/Berlin:20250130T160000
DTEND;TZID=Europe/Berlin:20250130T180000
DTSTAMP:20240730T083711Z
URL:https://www.intaqt.de/events/ptsta-reflexion-online-welche-konzepte-le
 iten-mich-beim-umgang-mit-der-gruppe/
SUMMARY:PTSTA-Reflexion online - Welche Konzepte leiten mich beim Umgang mi
 t der Gruppe?
DESCRIPTION:Du willst Dich für Deine TA-Lehre professionalisieren?\n\nDies
 es Mal: Welche Konzepte leiten mich beim Umgang mit der Gruppe? - Neben de
 n Inhalten der Lehre ist für eine TA-Gruppe der Umgang mit der Gruppendyn
 amik. Der kommen wir in diesem Modul auf die Spur u.a. mit folgenden Frage
 n: Welche Gruppen-Konzepte kenne ich? Wie ordne ich diese TA-theoretisch e
 in? Was bedeutet das für den Umgang mit der Gruppe?\n\nIn 2 Stunden kanns
 t Du Dich online mit Fragen der Lehrenden Rolle und TSTA Prüfung auseina
 ndersetzen und kannst Deine Tätigkeit als Lehrtrainer:in und Lehrsupervi
 sor:in mit anderen reflektieren und weiterentwickeln. Wir gestalten den Pr
 ozess zum Oberthema des Moduls Ko-Kreativ mit den Anliegen und dem Wissen 
 der Teilnehmenden und unserer Erfahrungen.\n\nUnter Leitung von Maya Bente
 le\, TSTA-O/C und Jule Endruweit\, TSTA-O\, bieten wir zwei intensive Stun
 den an:\n\n 	geleitet von zwei Lehrtrainerinnen mit Prüfungs-\, Verbands-
  und internationaler Erfahrung\n 	für PTSTAs und angehende PTSTAs\n 	zur 
 Professionalisierung\n 	zur Vorbereitung auf alle Teile der jeweiligen Pr
 üfungen\n 	zur Theoriediskussion\n 	zum Austausch\, zur Erprobung und zur
  Standortbestimmung\n\nWir freuen uns auch über eine Kontaktaufnahme oder
  Fragen: maya@bentele.ch oder endruweit@intaqt.de\n\n 
CATEGORIES:PTSTA Weiterbildung,Transaktionsanalyse
END:VEVENT
BEGIN:VTIMEZONE
TZID:Europe/Berlin
X-LIC-LOCATION:Europe/Berlin
BEGIN:STANDARD
DTSTART:20241027T020000
TZOFFSETFROM:+0200
TZOFFSETTO:+0100
TZNAME:CET
END:STANDARD
END:VTIMEZONE
END:VCALENDAR