BEGIN:VCALENDAR
VERSION:2.0
PRODID:-//wp-events-plugin.com//7.2.3.1//EN
TZID:Europe/Berlin
X-WR-TIMEZONE:Europe/Berlin
BEGIN:VEVENT
UID:390@intaqt.de
DTSTART;TZID=Europe/Berlin:20241213T090000
DTEND;TZID=Europe/Berlin:20241213T170000
DTSTAMP:20241211T105322Z
URL:https://www.intaqt.de/events/rezertifizierung-9/
SUMMARY:ReZertifizierung
DESCRIPTION:\nSie sind bereits zertifiziert und bieten Mediation an?\nDiese
 s Programm frischt auf und qualifiziert mit Fortbildung und Supervision.\n
 \nUnser Angebot ReZertifizierung orientiert sich an an den Auflagen der Ze
 rtifizierte-Mediatorin-Ausbildungsverordnung (ZMediaAusbV).\nAus drei Term
 inangeboten belegen Sie zwei Tage im Jahr und erhalten für jeden Tag eine
  Bestätigung über 6 Fortbildungsstunden und 2 Supervisionsstunden.\n\nDi
 e inhaltlichen Schwerpunkte der Module wechseln sich ab\, z.B. Kommunikati
 on\, Mediation und Recht\, Gruppendynamik\, Mediation in ausgesuchten Rech
 tsfeldern.\n\n 	16. Feb. 2024 - DiversityMediation\n 	21. Juni 2024 - Medi
 ation im Vorfeld einer Scheidung\n 	13. Dez. 2024 - Mediation in der Schul
 e\n\nAls Referent:innen bzw. Supervisor:innen stehen zur Verfügung und tr
 eten je nach Terminlage auf z.B.\nChristine Ehlers\, Jule Endruweit\, RA J
 ens Koehn\, Katharina Stahlenbrecher\, Eva Bettina Trittmann\, RAin Martin
 a Trümner\nHaben Sie Fragen? Bitte kontaktieren Sie uns! Wir freuen uns.\
 nSie wollen ein Rund-um-sorglos-Paket zur ReZertifizierung über die zwei 
 Jahre? Sprechen Sie uns an!\nZahlen Sie Ihre ReZertifizierung selbst? Dann
  nehmen Sie ebenfalls Kontakt zu uns auf.
CATEGORIES:Fortbildung Mediation,Mediation,Re-Zertifizierung für
 Mediator:innen,Supervision
LOCATION:intaqt\, Rykestr. 43\, Berlin\, 10405\, Deutschland
GEO:52.53708;13.42017
X-APPLE-STRUCTURED-LOCATION;VALUE=URI;X-ADDRESS=Rykestr. 43\, Berlin\, 1040
 5\, Deutschland;X-APPLE-RADIUS=100;X-TITLE=intaqt:geo:52.53708,13.42017
END:VEVENT
BEGIN:VTIMEZONE
TZID:Europe/Berlin
X-LIC-LOCATION:Europe/Berlin
BEGIN:STANDARD
DTSTART:20241027T020000
TZOFFSETFROM:+0200
TZOFFSETTO:+0100
TZNAME:CET
END:STANDARD
END:VTIMEZONE
END:VCALENDAR