BEGIN:VCALENDAR
VERSION:2.0
PRODID:-//wp-events-plugin.com//7.2.3.1//EN
TZID:Europe/Berlin
X-WR-TIMEZONE:Europe/Berlin
BEGIN:VEVENT
UID:179@intaqt.de
DTSTART;TZID=Europe/Berlin:20210607T150000
DTEND;TZID=Europe/Berlin:20210628T190000
DTSTAMP:20210518T164801Z
URL:https://www.intaqt.de/events/seminar/
SUMMARY:Konfliktbearbeitung. Eine Online-Einführung
DESCRIPTION:Konfliktbearbeitung mit Mediation\, Vielfalt und Wertschätzung
 \n Ein Seminar zur Einführung in die wertschätzende DiversityMediation\n
 \nWer lebt schon ohne Konflikte? Diese 16stündige Einführung richtet sic
 h an alle\, die ein konkretes Anliegen haben und an alle\, die einfach meh
 r über Mediation wissen wollen. Dabei ist diese Veranstaltung gleichzeiti
 g der Startpunkt für die Ausbildung zum zertifizieren Mediator bei intaqt
 .\n\nZur Stärkung Ihrer persönlichen Sicherheit\, Kompetenz und Professi
 onalität\nEntwickeln Sie Verständnis für die Dynamik im Konflikt\, um r
 echtzeitig das Richtige zu tun.\nReflektieren Sie Ihren Anteil an der Situ
 ation\, um aktiv zu steuern statt zu reagieren.\nErarbeiten Sie die Bedeut
 ung von Unterschiedlichkeit und Vielfalt (Diversität) für Ihre Konflikte
  und Lösungen.\nUnd sammeln Sie neue\, praktische Erfahrungen.\n\nDer Inh
 alt\nMit einem Überblick über die Phasen und Prinzipien erkennen Sie\, w
 ie Mediation aufgebaut ist. Ein erster Blick auf den rechtlichen Rahmen hi
 lft\, über die Rolle der Mediatorin oder des Mediators nachzudenken. Die 
 praktische Bedeutung von menschlicher Vielfalt als Stolperstein und als Ba
 sis für Lösungsideen nimmt einen großen Raum ein. Und wenn wir von Wert
 schätzung reden\, meinen wir erkennbare Ebenen und Formen einer konkreten
  wertschätzenden Haltung\, Auf diesen Grundlagen eruieren Sie die Chancen
  und Grenzen von wertschätzender DiversityMediation - und übertragen die
  eine oder andere Idee auf Ihren Arbeitsalltag oder Ihr persönliches Anli
 egen. Dabei helfen Ihnen kurze Übungen.\n\n\nAllgemeine Struktur\n\n\nDas
  Seminar ist ist auf 4 Montag-Nachmittage x 2 Einheiten angelegt\, insgesa
 mt jeweils von 15 -19 Uhr.\nFür alle Zufälle\, Ausfälle und Terminkolli
 sionen gibt es den 5. Juli als Ausweichtermin.\n\nDie einzelnen Abschnitte
  bauen thematisch aufeinander auf und verweisen aufeinander. Sie verbinden
  Theorie und Praxis mit unterschiedlichen Sinnen. Damit wir keine Quadrata
 ugen bekommen\, folgen wir auch online der Logik\nImpuls – Gruppenarbeit
  – Einzelarbeit | Selbstreflektion.\n\n\nEin „Laufzettel“ verknüpft
  Ihr Anliegen mit den Seminarinhalten.\n\n\nUnd wir legen nach jeder Einhe
 it\, und wann immer jemand Bedarf anmeldet\, eine Pause ein.\n\n\nDas Prog
 ramm\n7. Juni 2021\, 15 - 19 Uhr\, Zoom\nBegrüßung und Rahmen\nThema Kon
 flikt - eigener Zugang\, Konfliktanalysemodelle\nThema Wertschätzung - Be
 schreibung\, Wertschätzung und Konflikt\n\n\n14. Juni 2021\, 15 - 19 Uhr\
 , Zoom\n\n\nAnbindung an Tag 1\, Erfahrungen\nThema Konflikt: Formate der 
 Konfliktbearbeitung\nThema Mediation: Prinzipien der Mediation\, Rolle der
  Mediator:innen\, Recht und Grenzen der Mediation\, Arbeitsfelder\, Phasen
 \n\n\n21. Juni 2021\, 15 - 19 Uhr\, Zoom\n\n\nAnbindung an Tag 2\, Erfahru
 ngen\nThema Vielfalt: Diversitydimensionen\, Vielfalt\, Unterschiedlichkei
 t und Konflikt\, Diversität und Wertschätzung\n\n\n29. Juni 2021\, 15 - 
 19 Uhr\, Zoom\n\nAnbindung an Tag 3\, Erfahrungen\nThema Mediation: Trennu
 ng von Position und Interesse\, von Standpunkt und Motiv\, Optionsentwickl
 ung\, Bewertung von Optionen\nAbschluss\n\n5. Juli 2021\, 15 - 19 Uhr\, Zo
 om\nAusweichtermin für alle Zufälle\, Ausfälle und Terminkollisionen\n\
 n\n\nDie Referentinnen\n\nKatharina Stahlenbrecher\,\n\n\nDipl. Theol\,\, 
 Mediatorin DGM\, MM\; Zertifikatsweiterbildungen: u.a. Managing Gender &am
 p\; Diversity\nhttps://www.intaqt.de/ueber-uns/ auf xing\, auf  coaches.x
 ing und auf linked in.\n\nChristine Ehlers\,\nEthologin M.A.\, Mediatorin\
 , Zertifikatsweiterbildungen: u.a. Frauen in Führungspositionen\, biograf
 isches Coaching\n https://www.wert-erleben.de/ auf xing und auf linked in.
 \n\n\nDie Kosten\nStandart 290 Euro (inkl. 19 % MwSt.)\nCommunity 190 Euro
  (inkl. 19 % MwSt.)\n[button link="http://www.intaqt.de/wp-content/uploads
 /2018/06/Anmeldeformular-Mediation.pdf" color="black" newwindow="yes"]Down
 load Anmeldeformular[/button]
CATEGORIES:Einführung in wertschätzende DiversityMediation,Mediation
END:VEVENT
BEGIN:VTIMEZONE
TZID:Europe/Berlin
X-LIC-LOCATION:Europe/Berlin
BEGIN:DAYLIGHT
DTSTART:20210328T030000
TZOFFSETFROM:+0100
TZOFFSETTO:+0200
TZNAME:CEST
END:DAYLIGHT
END:VTIMEZONE
END:VCALENDAR