BEGIN:VCALENDAR
VERSION:2.0
PRODID:-//wp-events-plugin.com//7.2.3.1//EN
TZID:Europe/Berlin
X-WR-TIMEZONE:Europe/Berlin
BEGIN:VEVENT
UID:497@intaqt.de
DTSTART;TZID=Europe/Berlin;VALUE=DATE:20260320
DTEND;TZID=Europe/Berlin;VALUE=DATE:20260321
DTSTAMP:20250226T084937Z
URL:https://www.intaqt.de/events/supervisionskolloquium-2/
SUMMARY:Supervisionskolloquium
DESCRIPTION:Das Supervisionskolloquium richtet sich an alle TA-ler:innen\, 
 die supervidieren möchten oder Supervision suchen. Unter der Leitung von 
 zwei erfahrenen Supervisoren bieten wir euch während des Supervisionskoll
 oquium zweimal jährlich die Möglichkeit dazu.\n\nDas Supervisionskolloqu
 ium ist Teil der Ausbildung zum TA-Supervisor:in\, aber auch offen für al
 le\, die Supervision zu ihrer TA-Praxis suchen. Voraussetzung ist eine abg
 eschlossene TA-Berater:in-Ausbildung\, egal von welchem Institut.\n\nDas Z
 iel der Supervisor:in DGTA Ausbildung bei intatqt ist\, für das beruflich
 e Feld der Supervision befähigt zu sein. Das Curriculum hat zum Ziel\, un
 ter Zuhilfenahme unterschiedlicher Supervisionskonzepte in der Lage zu sei
 n\, Gruppen oder Einzelne\n– lösungsfokussiert\,\n– salutogenetisch\n
 dabei zu begleiten\n– Optionen zu entwickeln und Entscheidungen zu ermö
 glichen\,\n– Praxisschritte zu planen\,- sich\, andere\, Situationen und
  Kontext (Organisationen) zu reflektieren.
CATEGORIES:Supervision,Transaktionsanalyse
LOCATION:intaqt\, Rykestr. 43\, Berlin\, 10405\, Deutschland
GEO:52.53708;13.42017
X-APPLE-STRUCTURED-LOCATION;VALUE=URI;X-ADDRESS=Rykestr. 43\, Berlin\, 1040
 5\, Deutschland;X-APPLE-RADIUS=100;X-TITLE=intaqt:geo:52.53708,13.42017
END:VEVENT
BEGIN:VTIMEZONE
TZID:Europe/Berlin
X-LIC-LOCATION:Europe/Berlin
BEGIN:STANDARD
DTSTART:20251026T020000
TZOFFSETFROM:+0200
TZOFFSETTO:+0100
TZNAME:CET
END:STANDARD
END:VTIMEZONE
END:VCALENDAR