BEGIN:VCALENDAR
VERSION:2.0
PRODID:-//wp-events-plugin.com//7.2.3.1//EN
TZID:Europe/Berlin
X-WR-TIMEZONE:Europe/Berlin
BEGIN:VEVENT
UID:5@intaqt.de
DTSTART;TZID=Europe/Berlin:20161117T100000
DTEND;TZID=Europe/Berlin:20161117T160000
DTSTAMP:20160513T082341Z
URL:https://www.intaqt.de/events/supervisionstag-schluessel-zu-eigenen-the
 men-finden-2016-11-17/
SUMMARY:Supervisionstag - Schlüssel zu eigenen Themen finden
DESCRIPTION:Ein Tag\, an dem Ihre Anliegen im Mittelpunkt stehen. Es könne
 n Anliegen aus ihrer Arbeitswelt\, ihrer Privatwelt oder aus ihrer Ausbild
 ung in Transaktionsanalyse sein. Wir bearbeiten die mitgebrachten Anliegen
  mit Hilfe von Supervision oder kollegialer Beratung\, so dass Sie mit ind
 ividuellen Lösungsmöglichkeiten oder Anregungen nach Hause gehen.\n\nSem
 inar Gebühr: € 100\,00 zzgl. MWSt.\n\nVon 10.00 – 16.00 Uhr je nach A
 nzahl der Anliegen\n\n[button link="http://www.intaqt.de/wp-content/upload
 s/2016/05/Anmeldeformular_form.pdf" color="black" newwindow="yes"]Download
  Anmeldeformular[/button]\n\nAlle kommenden Supervisionstage:\n\n[events_l
 ist category="15"]\n\n&nbsp\;
CATEGORIES:Supervisionstag
LOCATION:intaqt\, Rykestr. 43\, Berlin\, 10405\, Deutschland
GEO:52.53708;13.42017
X-APPLE-STRUCTURED-LOCATION;VALUE=URI;X-ADDRESS=Rykestr. 43\, Berlin\, 1040
 5\, Deutschland;X-APPLE-RADIUS=100;X-TITLE=intaqt:geo:52.53708,13.42017
END:VEVENT
BEGIN:VTIMEZONE
TZID:Europe/Berlin
X-LIC-LOCATION:Europe/Berlin
BEGIN:STANDARD
DTSTART:20161030T020000
TZOFFSETFROM:+0200
TZOFFSETTO:+0100
TZNAME:CET
END:STANDARD
END:VTIMEZONE
END:VCALENDAR