BEGIN:VCALENDAR
VERSION:2.0
PRODID:-//wp-events-plugin.com//7.2.3.1//EN
TZID:Europe/Berlin
X-WR-TIMEZONE:Europe/Berlin
BEGIN:VEVENT
UID:543@intaqt.de
DTSTART;TZID=Europe/Berlin;VALUE=DATE:20270814
DTEND;TZID=Europe/Berlin;VALUE=DATE:20270816
DTSTAMP:20260417T074036Z
URL:https://www.intaqt.de/events/transaktionsanalyse-fortgeschrittenentrai
 ning-cta-vorbereitung-54/
SUMMARY:Professional Level – TA-Masterclass bis zur CTA-Prüfung
DESCRIPTION:Professional Level – TA-Masterclass bis zur CTA-Prüfung\n&nb
 sp\;\n\nDie Module der fortgeschrittenen Weiterbildungsgruppe sind jeweils
  am Stand\, den Lernerfordernissen und den Interessen der Teilnehmenden au
 sgerichtet. Einsteigen kannst Du jederzeit\, wenn Du bereits einen Abschlu
 ss als Transaktionsanalytische:r Berater:in\, eine Praxiskompetenzbeschein
 igung hast oder mindestens drei Jahre in einer Weiterbildungsgruppe warst.
 \n\nIm Mittelpunkt stehen die Vertiefung und Erweiterung der eigenen profe
 ssionellen Praxis.\n\nDie Masterclass basiert auf den Grundannahmen und Pr
 inzipien der Ko-kreativen Transaktionsanalyse: Wir arbeiten mit einem ko
 -kreativen Lernvertrag\, der die Eigenverantwortung aller Teilnehmenden st
 ärkt\, orientieren uns an den Prinzipien der ko-kreativen Beziehung und
  nutzen das Dreieck der Intimität als Modell für eine lebendige\, trag
 fähige Lern- und Arbeitskultur. Wir arbeiten relational\, im Kontakt.\n\n
 Die Beschäftigung mit theoretischen Modellen aus der Transaktionsanalyse 
 und auch mit Impulsen aus anderen Richtungen gehört ebenso dazu\, wie Sup
 ervision und Intervision\, Supervisionen von Aufnahmen zur Vorbereitung au
 f die mündliche Prüfung\, Mock-Examina\, Fragen aus den Verbänden (DGTA
 /EATA/ITAA) und aktuelle Forschungsthemen.\n\nImmer wieder laden wir auch 
 Lehrende anderer Anwendungsfelder als Gäste ein\, um den Horizont zu erwe
 itern und neue Perspektiven einzubeziehen.\n\nSo entsteht ein Lernraum\, d
 er Theorie\, Praxis und persönliche Entwicklung miteinander verbindet –
  und Dich Schritt für Schritt auf Deinem Weg zur CTA-Prüfung unterstütz
 t.Das Ziel ist die Vorbereitung auf einen Abschluss als zertifizierte:r Tr
 ansaktionsanalytiker:in  CTA (DGTA/EATA).\n\nWenn Du Lust hast\, Teil die
 ser Weiterbildung zu werden\, freuen wir uns von Dir zu hören. Nutze dazu
  einfach das Kontaktformular und sende es an info@intaqt.de. Wir vereinba
 ren dann einen Gesprächstermin.\n\nUnd wenn Du vorher noch Fragen hast od
 er Dich persönlich austauschen möchtest: Melde Dich gern bei uns. Wir ne
 hmen uns Zeit für Dich und klären gemeinsam\, ob und wie diese Mastercla
 ss zu Deinem nächsten Schritt passt.\n\nZeiten: 10.00 -18.00 Uhr (1. Tag)
  und 9.00-17.00 Uhr (2. Tag)\n\nJetzt einsteigen:\nTeilnahme ist möglich 
 mit einem Abschluss als Transaktionsanalytische:r Berater:in\, TA-Coach\, 
 TA-Supervisor:in\, mit der Bescheinigung über die Praxiskompetenz oder mi
 ndestens drei Jahren TA-Weiterbildungserfahrung.\n\nDu entscheidest Dich j
 eweils für ein Jahr voller Inspiration\, Lernen und gemeinsamer Entwicklu
 ng.\nFür Deine Investition bekommst Du 5 Wochenenden im Jahr (jeweils 2 T
 age) und eine Jahresvertrags-Supervision  – einen intensiven und berei
 chernden Rahmen für Dein persönliches und berufliches Wachstum\n\n 	Für
  Unternehmen: € 4.000\,00 zzgl. USt.\n 	Für Selbständige: € 3.000\,0
 0 zzgl. USt.\n 	Für Privatpersonen: € 3.000\,00 inkl. USt.\n\nSo schenk
 st Du Dir und Deinem Umfeld ein Jahr voller neuer Impulse\, Erkenntnisse u
 nd Begegnungen.\n\nDie weiteren Termine sind:\n\n19./20.09.2026\n19./20.12
 .2026\n27./28.02.2027\n22./23.05.2027\n14./15.08.2027\n09./10.10.2027\n18.
 /19.12.2027\n\nBei Interesse an dieser Veranstaltung füllen Sie das Anmel
 dungsformular aus und schicken Sie es an info@intaqt.de. Gern nehmen wir d
 ann mit Ihnen Kontakt auf.\n\n[button link="https://www.intaqt.de/wp-conte
 nt/uploads/2026/03/Anmeldung-TA-Masterclass-Seminarreihe-intaqtGmbH.pdf" n
 ewwindow="yes"]Download Anmeldeformular[/button]\n\nAlle kommenden Termine
  zum Fortgeschrittenentraining bei Thomas Wehrs:\n\n[events_list category=
 "206"]
CATEGORIES:TA Masterclass,Thomas Wehrs
LOCATION:intaqt\, Rykestr. 43\, Berlin\, 10405\, Deutschland
GEO:52.53708;13.42017
X-APPLE-STRUCTURED-LOCATION;VALUE=URI;X-ADDRESS=Rykestr. 43\, Berlin\, 1040
 5\, Deutschland;X-APPLE-RADIUS=100;X-TITLE=intaqt:geo:52.53708,13.42017
END:VEVENT
BEGIN:VTIMEZONE
TZID:Europe/Berlin
X-LIC-LOCATION:Europe/Berlin
BEGIN:DAYLIGHT
DTSTART:20270328T030000
TZOFFSETFROM:+0100
TZOFFSETTO:+0200
TZNAME:CEST
END:DAYLIGHT
END:VTIMEZONE
END:VCALENDAR